BEGIN:VCALENDAR
VERSION:2.0
PRODID:-//Construction Angels - ECPv6.3.2//NONSGML v1.0//EN
CALSCALE:GREGORIAN
METHOD:PUBLISH
X-ORIGINAL-URL:https://www.constructionangels.us
X-WR-CALDESC:Events for Construction Angels
REFRESH-INTERVAL;VALUE=DURATION:PT1H
X-Robots-Tag:noindex
X-PUBLISHED-TTL:PT1H
BEGIN:VTIMEZONE
TZID:UTC
BEGIN:STANDARD
TZOFFSETFROM:+0000
TZOFFSETTO:+0000
TZNAME:UTC
DTSTART:20260101T000000
END:STANDARD
END:VTIMEZONE
BEGIN:VEVENT
DTSTART;TZID=UTC:20260902T080000
DTEND;TZID=UTC:20260902T133000
DTSTAMP:20260424T215738
CREATED:20251219T212245Z
LAST-MODIFIED:20251219T212245Z
UID:5238-1788336000-1788355800@www.constructionangels.us
SUMMARY:4th Annual Cemen Tech & Master Builders of Iowa Golf Outing\, 2026
DESCRIPTION:CLICK HERE TO REGISTER
URL:https://www.constructionangels.us/event/4th-annual-cemen-tech-master-builders-of-iowa-golf-outing-2026/
LOCATION:The Legacy Golf Club\, 400 Legacy Pkwy\, IA\, 50211\, United States
ATTACH;FMTTYPE=image/png:https://www.constructionangels.us/wp-content/uploads/2025/12/iowa_golf-1762912778.png
ORGANIZER;CN="Jennifer Ballester":MAILTO:jennifer.ballester@constructionangels.us
END:VEVENT
BEGIN:VEVENT
DTSTART;TZID=UTC:20260918T073000
DTEND;TZID=UTC:20260918T150000
DTSTAMP:20260424T215738
CREATED:20251219T210554Z
LAST-MODIFIED:20251219T210554Z
UID:5234-1789716600-1789743600@www.constructionangels.us
SUMMARY:3rd Annual Beyel Brothers Charity Golf Tournament\, 2026
DESCRIPTION:CLICK HERE TO REGISTER
URL:https://www.constructionangels.us/event/3rd-annual-beyel-brothers-charity-golf-tournament-2026/
LOCATION:Rockledge Country Club\, 1591 South Fiske Blvd\, Rockledge\, FL\, 32955\, United States
ATTACH;FMTTYPE=image/png:https://www.constructionangels.us/wp-content/uploads/2025/12/beyel_bros-1762918411.png
ORGANIZER;CN="Jennifer Ballester":MAILTO:jennifer.ballester@constructionangels.us
END:VEVENT
BEGIN:VEVENT
DTSTART;TZID=UTC:20261014T173000
DTEND;TZID=UTC:20261014T193000
DTSTAMP:20260424T215738
CREATED:20260422T171137Z
LAST-MODIFIED:20260422T171137Z
UID:5495-1791999000-1792006200@www.constructionangels.us
SUMMARY:3rd Annual BOMAG & Linder Golf Classic\, 2026 Dinner Reception
DESCRIPTION:CLICK HERE TO REGISTER
URL:https://www.constructionangels.us/event/3rd-annual-bomag-linder-golf-classic-2026-dinner-reception/
LOCATION:The Windermere Club\, 1101 Longtown Road East\, Blythewood\, SC\, 29016\, United States
ATTACH;FMTTYPE=image/png:https://www.constructionangels.us/wp-content/uploads/2026/04/construction_angels_golf_tournament_2026_registration_flyer-1776461871.png
ORGANIZER;CN="Jennifer Ballester":MAILTO:jennifer.ballester@constructionangels.us
END:VEVENT
BEGIN:VEVENT
DTSTART;TZID=UTC:20261015T070000
DTEND;TZID=UTC:20261015T170000
DTSTAMP:20260424T215738
CREATED:20260422T171454Z
LAST-MODIFIED:20260422T171531Z
UID:5501-1792047600-1792083600@www.constructionangels.us
SUMMARY:3rd Annual BOMAG & Linder Golf Classic\, 2026
DESCRIPTION:CLICK HERE TO REGISTER
URL:https://www.constructionangels.us/event/3rd-annual-bomag-linder-golf-classic-2026/
LOCATION:The Windermere Club\, 1101 Longtown Road East\, Blythewood\, SC\, 29016\, United States
ATTACH;FMTTYPE=image/png:https://www.constructionangels.us/wp-content/uploads/2026/04/construction_angels_golf_tournament_2026_registration_flyer-1776461871.png
ORGANIZER;CN="Jennifer Ballester":MAILTO:jennifer.ballester@constructionangels.us
END:VEVENT
END:VCALENDAR