BEGIN:VCALENDAR
VERSION:2.0
PRODID:-//Construction Angels - ECPv6.3.2//NONSGML v1.0//EN
CALSCALE:GREGORIAN
METHOD:PUBLISH
X-WR-CALNAME:Construction Angels
X-ORIGINAL-URL:https://www.constructionangels.us
X-WR-CALDESC:Events for Construction Angels
REFRESH-INTERVAL;VALUE=DURATION:PT1H
X-Robots-Tag:noindex
X-PUBLISHED-TTL:PT1H
BEGIN:VTIMEZONE
TZID:UTC
BEGIN:STANDARD
TZOFFSETFROM:+0000
TZOFFSETTO:+0000
TZNAME:UTC
DTSTART:20260101T000000
END:STANDARD
END:VTIMEZONE
BEGIN:VEVENT
DTSTART;TZID=UTC:20260515T070000
DTEND;TZID=UTC:20260515T150000
DTSTAMP:20260425T124358
CREATED:20251213T205636Z
LAST-MODIFIED:20251213T205636Z
UID:5210-1778828400-1778857200@www.constructionangels.us
SUMMARY:2nd Annual Riegler Blacktop Golf Classic\, 2026
DESCRIPTION:CLICK HERE TO REGISTER
URL:https://www.constructionangels.us/event/2nd-annual-riegler-blacktop-golf-classic-2026/
LOCATION:The Golf Courses of Kenton County\, 3908 Richardson Road\, Independence\, KY\, 41051\, United States
ATTACH;FMTTYPE=image/png:https://www.constructionangels.us/wp-content/uploads/2025/12/2026_riegler_-1762903884.png
ORGANIZER;CN="Jennifer Ballester":MAILTO:jennifer.ballester@constructionangels.us
END:VEVENT
BEGIN:VEVENT
DTSTART;TZID=UTC:20260515T063000
DTEND;TZID=UTC:20260515T150000
DTSTAMP:20260425T124358
CREATED:20251219T205258Z
LAST-MODIFIED:20251219T205613Z
UID:5226-1778826600-1778857200@www.constructionangels.us
SUMMARY:6th Annual United Rentals Charity Golf Classic\, 2026
DESCRIPTION:CLICK HERE TO REGISTER
URL:https://www.constructionangels.us/event/6th-annual-united-rentals-charity-golf-classic-2026/
LOCATION:Ocotillo Golf Club – AZ\, 3751 S Clubhouse Dr\, Chandler\, AZ\, 85248\, United States
ATTACH;FMTTYPE=image/png:https://www.constructionangels.us/wp-content/uploads/2025/12/az-24-united_rentals-1762782117.png
ORGANIZER;CN="Jennifer Ballester":MAILTO:jennifer.ballester@constructionangels.us
END:VEVENT
BEGIN:VEVENT
DTSTART;TZID=UTC:20260511T000000
DTEND;TZID=UTC:20260511T000000
DTSTAMP:20260425T124358
CREATED:20251021T222856Z
LAST-MODIFIED:20251021T222856Z
UID:5145-1778457600-1778457600@www.constructionangels.us
SUMMARY:Annual Groff Tractor Golf Classic 2026
DESCRIPTION:CLICK HERE TO REGISTER
URL:https://www.constructionangels.us/event/annual-groff-tractor-golf-classic-2026/
LOCATION:Butler Country Club\, 310 Country Club Road\, Butler\, PA\, 16002\, United States
ATTACH;FMTTYPE=image/jpeg:https://www.constructionangels.us/wp-content/uploads/2025/10/save_the_date_gte_golf_classic_2026_qr_2-1756219686.jpg
ORGANIZER;CN="Jennifer Ballester":MAILTO:jennifer.ballester@constructionangels.us
END:VEVENT
BEGIN:VEVENT
DTSTART;TZID=UTC:20260508T070000
DTEND;TZID=UTC:20260508T190000
DTSTAMP:20260425T124358
CREATED:20251014T212255Z
LAST-MODIFIED:20251021T215813Z
UID:5129-1778223600-1778266800@www.constructionangels.us
SUMMARY:5th Annual Construction Angels Fishing Tournament\, 2026
DESCRIPTION:CLICK HERE TO REGISTER
URL:https://www.constructionangels.us/event/5th-annual-construction-angels-fishing-tournament-2026/
LOCATION:Sand Harbors Hotel And Marina – FL\, 125 N Riverside Dr\, Pompano Beach\, FL\, 33062\, United States
ATTACH;FMTTYPE=image/png:https://www.constructionangels.us/wp-content/uploads/2025/10/FL-26-Cemex-Fishing.png
ORGANIZER;CN="Jennifer Ballester":MAILTO:jennifer.ballester@constructionangels.us
END:VEVENT
BEGIN:VEVENT
DTSTART;VALUE=DATE:20260506
DTEND;VALUE=DATE:20260507
DTSTAMP:20260425T124358
CREATED:20260416T020204Z
LAST-MODIFIED:20260416T020204Z
UID:5485-1778025600-1778111999@www.constructionangels.us
SUMMARY:Safety in Action: The Gray Community Fundraiser
DESCRIPTION:CLICK HERE TO REGISTER
URL:https://www.constructionangels.us/event/safety-in-action-the-gray-community-fundraiser/
LOCATION:NE
ATTACH;FMTTYPE=image/png:https://www.constructionangels.us/wp-content/uploads/2026/04/31d116e6-ff7f-4f70-a5e4-0927d4c894c4.png
ORGANIZER;CN="Jennifer Ballester":MAILTO:jennifer.ballester@constructionangels.us
END:VEVENT
BEGIN:VEVENT
DTSTART;TZID=UTC:20260430T080000
DTEND;TZID=UTC:20260501T170000
DTSTAMP:20260425T124358
CREATED:20251111T164718Z
LAST-MODIFIED:20251111T164718Z
UID:5170-1777536000-1777654800@www.constructionangels.us
SUMMARY:6th Annual Dobbs Equipment Golf Classic 2026
DESCRIPTION:CLICK HERE TO REGISTER
URL:https://www.constructionangels.us/event/6th-annual-dobbs-equipment-golf-classic-2026/
LOCATION:PGA National Resort\, 400 Avenue of the Champions\, Palm Beach Gardens\, FL\, 33418\, United States
ATTACH;FMTTYPE=image/png:https://www.constructionangels.us/wp-content/uploads/2025/11/2026_golf_classic_digital_assets_square-_lockup_and_date_copy-1762355841.png
ORGANIZER;CN="Jennifer Ballester":MAILTO:jennifer.ballester@constructionangels.us
END:VEVENT
BEGIN:VEVENT
DTSTART;TZID=UTC:20260424T080000
DTEND;TZID=UTC:20260425T170000
DTSTAMP:20260425T124358
CREATED:20260112T183027Z
LAST-MODIFIED:20260413T183459Z
UID:5266-1777017600-1777136400@www.constructionangels.us
SUMMARY:Inaugural T.E.S. Charity Golf Tournament\, 2026
DESCRIPTION:CLICK HERE TO REGISTER
URL:https://www.constructionangels.us/event/inaugural-t-e-s-charity-golf-tournament-2026/
LOCATION:Bay Point Golf Club\, 4701 Bay Point Road\, Panama City\, FL\, 33408\, United States
ATTACH;FMTTYPE=image/png:https://www.constructionangels.us/wp-content/uploads/2026/01/tee_off_with-1768593387.png
ORGANIZER;CN="Jennifer Ballester":MAILTO:jennifer.ballester@constructionangels.us
END:VEVENT
BEGIN:VEVENT
DTSTART;TZID=UTC:20260423T180000
DTEND;TZID=UTC:20260423T210000
DTSTAMP:20260425T124358
CREATED:20260413T183856Z
LAST-MODIFIED:20260413T183856Z
UID:5481-1776967200-1776978000@www.constructionangels.us
SUMMARY:Inaugural T.E.S. Charity Cocktail Reception\, 2026
DESCRIPTION:CLICK HERE TO REGISTER
URL:https://www.constructionangels.us/event/inaugural-t-e-s-charity-cocktail-reception-2026/
LOCATION:Bay Point Golf Club\, 4701 Bay Point Road\, Panama City\, FL\, 33408\, United States
ATTACH;FMTTYPE=image/png:https://www.constructionangels.us/wp-content/uploads/2026/01/tee_off_with-1768593387.png
ORGANIZER;CN="Jennifer Ballester":MAILTO:jennifer.ballester@constructionangels.us
END:VEVENT
END:VCALENDAR