BEGIN:VCALENDAR
VERSION:2.0
PRODID:-//Construction Angels - ECPv6.3.2//NONSGML v1.0//EN
CALSCALE:GREGORIAN
METHOD:PUBLISH
X-WR-CALNAME:Construction Angels
X-ORIGINAL-URL:https://www.constructionangels.us
X-WR-CALDESC:Events for Construction Angels
REFRESH-INTERVAL;VALUE=DURATION:PT1H
X-Robots-Tag:noindex
X-PUBLISHED-TTL:PT1H
BEGIN:VTIMEZONE
TZID:UTC
BEGIN:STANDARD
TZOFFSETFROM:+0000
TZOFFSETTO:+0000
TZNAME:UTC
DTSTART:20260101T000000
END:STANDARD
END:VTIMEZONE
BEGIN:VEVENT
DTSTART;TZID=UTC:20260522T070000
DTEND;TZID=UTC:20260522T140000
DTSTAMP:20260424T165210
CREATED:20260113T181425Z
LAST-MODIFIED:20260309T233100Z
UID:5277-1779433200-1779458400@www.constructionangels.us
SUMMARY:Construction Angels Maryland Golf Outing\, 2026
DESCRIPTION:CLICK HERE TO REGISTER
URL:https://www.constructionangels.us/event/miss-utility-annual-charity-golf-tournament-2026/
LOCATION:Oak Creek Golf Club\, 600 Bowieville Manor Ln.\, Upper Marlboro\, MD\, 20774\, United States
ATTACH;FMTTYPE=image/png:https://www.constructionangels.us/wp-content/uploads/2026/01/Miss-Utility-2026.png
ORGANIZER;CN="Jennifer Ballester":MAILTO:jennifer.ballester@constructionangels.us
END:VEVENT
BEGIN:VEVENT
DTSTART;TZID=UTC:20260522T080000
DTEND;TZID=UTC:20260522T130000
DTSTAMP:20260424T165210
CREATED:20260212T190059Z
LAST-MODIFIED:20260223T212656Z
UID:5320-1779436800-1779454800@www.constructionangels.us
SUMMARY:6th Annual Construction Angels Michigan Charity Clay Shoot\, 2026
DESCRIPTION:CLICK HERE TO REGISTER
URL:https://www.constructionangels.us/event/6th-annual-construction-angels-michigan-charity-clay-shoot-2026/
LOCATION:Michigan Shooting Centers\, 2500 Kern Rd\, Orion Twp\, MI\, 48360\, United States
ATTACH;FMTTYPE=image/png:https://www.constructionangels.us/wp-content/uploads/2026/02/MI-Trade-Clay-REG.png
ORGANIZER;CN="Jennifer Ballester":MAILTO:jennifer.ballester@constructionangels.us
END:VEVENT
END:VCALENDAR